BEGIN:VCALENDAR
VERSION:2.0
PRODID:-//Freiwillige Feuerwehr Schwoich - ECPv6.15.17.1//NONSGML v1.0//EN
CALSCALE:GREGORIAN
METHOD:PUBLISH
X-ORIGINAL-URL:https://ff-schwoich.at
X-WR-CALDESC:Veranstaltungen für Freiwillige Feuerwehr Schwoich
REFRESH-INTERVAL;VALUE=DURATION:PT1H
X-Robots-Tag:noindex
X-PUBLISHED-TTL:PT1H
BEGIN:VTIMEZONE
TZID:Europe/Vienna
BEGIN:DAYLIGHT
TZOFFSETFROM:+0100
TZOFFSETTO:+0200
TZNAME:CEST
DTSTART:20240331T010000
END:DAYLIGHT
BEGIN:STANDARD
TZOFFSETFROM:+0200
TZOFFSETTO:+0100
TZNAME:CET
DTSTART:20241027T010000
END:STANDARD
BEGIN:DAYLIGHT
TZOFFSETFROM:+0100
TZOFFSETTO:+0200
TZNAME:CEST
DTSTART:20250330T010000
END:DAYLIGHT
BEGIN:STANDARD
TZOFFSETFROM:+0200
TZOFFSETTO:+0100
TZNAME:CET
DTSTART:20251026T010000
END:STANDARD
BEGIN:DAYLIGHT
TZOFFSETFROM:+0100
TZOFFSETTO:+0200
TZNAME:CEST
DTSTART:20260329T010000
END:DAYLIGHT
BEGIN:STANDARD
TZOFFSETFROM:+0200
TZOFFSETTO:+0100
TZNAME:CET
DTSTART:20261025T010000
END:STANDARD
END:VTIMEZONE
BEGIN:VEVENT
DTSTART;TZID=Europe/Vienna:20250902T200000
DTEND;TZID=Europe/Vienna:20250902T220000
DTSTAMP:20260423T221705
CREATED:20250326T193525Z
LAST-MODIFIED:20250326T193525Z
UID:9915-1756843200-1756850400@ff-schwoich.at
SUMMARY:Übung 1. Gruppe
DESCRIPTION:
URL:https://ff-schwoich.at/termin/uebung-1-gruppe-21/
LOCATION:Gerätehaus FF Schwoich
CATEGORIES:1. Gruppe,Übungen
END:VEVENT
BEGIN:VEVENT
DTSTART;TZID=Europe/Vienna:20250909T200000
DTEND;TZID=Europe/Vienna:20250909T220000
DTSTAMP:20260423T221705
CREATED:20250326T193551Z
LAST-MODIFIED:20250326T193551Z
UID:9917-1757448000-1757455200@ff-schwoich.at
SUMMARY:Übung 2. Gruppe
DESCRIPTION:
URL:https://ff-schwoich.at/termin/uebung-2-gruppe-21/
LOCATION:Gerätehaus FF Schwoich
CATEGORIES:2. Gruppe,Übungen
END:VEVENT
BEGIN:VEVENT
DTSTART;TZID=Europe/Vienna:20250916T200000
DTEND;TZID=Europe/Vienna:20250916T220000
DTSTAMP:20260423T221705
CREATED:20250326T193703Z
LAST-MODIFIED:20250326T193703Z
UID:9919-1758052800-1758060000@ff-schwoich.at
SUMMARY:Übung 3. Gruppe
DESCRIPTION:
URL:https://ff-schwoich.at/termin/uebung-3-gruppe-23/
LOCATION:Gerätehaus FF Schwoich
CATEGORIES:3. Gruppe,Übungen
END:VEVENT
BEGIN:VEVENT
DTSTART;TZID=Europe/Vienna:20250925T200000
DTEND;TZID=Europe/Vienna:20250925T220000
DTSTAMP:20260423T221705
CREATED:20250326T193736Z
LAST-MODIFIED:20250326T193736Z
UID:9921-1758830400-1758837600@ff-schwoich.at
SUMMARY:Übung 4. Gruppe
DESCRIPTION:
URL:https://ff-schwoich.at/termin/uebung-4-gruppe-22/
LOCATION:Gerätehaus FF Schwoich
CATEGORIES:4. Gruppe,Übungen
END:VEVENT
END:VCALENDAR