BEGIN:VCALENDAR
VERSION:2.0
PRODID:-//Freiwillige Feuerwehr Schwoich - ECPv6.15.17.1//NONSGML v1.0//EN
CALSCALE:GREGORIAN
METHOD:PUBLISH
X-ORIGINAL-URL:https://ff-schwoich.at
X-WR-CALDESC:Veranstaltungen für Freiwillige Feuerwehr Schwoich
REFRESH-INTERVAL;VALUE=DURATION:PT1H
X-Robots-Tag:noindex
X-PUBLISHED-TTL:PT1H
BEGIN:VTIMEZONE
TZID:Europe/Vienna
BEGIN:DAYLIGHT
TZOFFSETFROM:+0100
TZOFFSETTO:+0200
TZNAME:CEST
DTSTART:20250330T010000
END:DAYLIGHT
BEGIN:STANDARD
TZOFFSETFROM:+0200
TZOFFSETTO:+0100
TZNAME:CET
DTSTART:20251026T010000
END:STANDARD
BEGIN:DAYLIGHT
TZOFFSETFROM:+0100
TZOFFSETTO:+0200
TZNAME:CEST
DTSTART:20260329T010000
END:DAYLIGHT
BEGIN:STANDARD
TZOFFSETFROM:+0200
TZOFFSETTO:+0100
TZNAME:CET
DTSTART:20261025T010000
END:STANDARD
BEGIN:DAYLIGHT
TZOFFSETFROM:+0100
TZOFFSETTO:+0200
TZNAME:CEST
DTSTART:20270328T010000
END:DAYLIGHT
BEGIN:STANDARD
TZOFFSETFROM:+0200
TZOFFSETTO:+0100
TZNAME:CET
DTSTART:20271031T010000
END:STANDARD
END:VTIMEZONE
BEGIN:VEVENT
DTSTART;TZID=Europe/Vienna:20260423T190000
DTEND;TZID=Europe/Vienna:20260423T220000
DTSTAMP:20260423T142024
CREATED:20260303T094057Z
LAST-MODIFIED:20260303T094057Z
UID:10119-1776970800-1776981600@ff-schwoich.at
SUMMARY:Frühjahresübung 3. Gruppe
DESCRIPTION:
URL:https://ff-schwoich.at/termin/fruehjahresuebung-3-gruppe-3/
LOCATION:Gerätehaus FF Schwoich
CATEGORIES:3. Gruppe,Übungen
END:VEVENT
BEGIN:VEVENT
DTSTART;TZID=Europe/Vienna:20260426T081500
DTEND;TZID=Europe/Vienna:20260426T100000
DTSTAMP:20260423T142024
CREATED:20260303T094216Z
LAST-MODIFIED:20260303T094216Z
UID:10121-1777191300-1777197600@ff-schwoich.at
SUMMARY:Florianifeier 2026
DESCRIPTION:
URL:https://ff-schwoich.at/termin/florianifeier-2026/
LOCATION:Pfarrkirche Schwoich
CATEGORIES:1. Gruppe,2. Gruppe,3. Gruppe,4. Gruppe,Termine
END:VEVENT
BEGIN:VEVENT
DTSTART;TZID=Europe/Vienna:20260505T200000
DTEND;TZID=Europe/Vienna:20260505T220000
DTSTAMP:20260423T142024
CREATED:20260303T094643Z
LAST-MODIFIED:20260303T094643Z
UID:10124-1778011200-1778018400@ff-schwoich.at
SUMMARY:Übung 1. Gruppe
DESCRIPTION:
URL:https://ff-schwoich.at/termin/uebung-1-gruppe-23/
LOCATION:Gerätehaus FF Schwoich
CATEGORIES:1. Gruppe,Übungen
END:VEVENT
BEGIN:VEVENT
DTSTART;TZID=Europe/Vienna:20260512T200000
DTEND;TZID=Europe/Vienna:20260512T220000
DTSTAMP:20260423T142024
CREATED:20260303T095657Z
LAST-MODIFIED:20260303T095657Z
UID:10126-1778616000-1778623200@ff-schwoich.at
SUMMARY:Übung 2. Gruppe
DESCRIPTION:
URL:https://ff-schwoich.at/termin/uebung-2-gruppe-23/
LOCATION:Gerätehaus FF Schwoich
CATEGORIES:2. Gruppe,Übungen
END:VEVENT
BEGIN:VEVENT
DTSTART;VALUE=DATE:20260515
DTEND;VALUE=DATE:20260517
DTSTAMP:20260423T142024
CREATED:20260303T120533Z
LAST-MODIFIED:20260303T120533Z
UID:10176-1778803200-1778975999@ff-schwoich.at
SUMMARY:150 Jahre FF Kufstein - Fest und Fahrzeugsegnung
DESCRIPTION:
URL:https://ff-schwoich.at/termin/150-jahre-ff-kufstein-fest-und-fahrzeugsegnung/
LOCATION:FF Kufstein
CATEGORIES:1. Gruppe,2. Gruppe,3. Gruppe,4. Gruppe,Termine
END:VEVENT
BEGIN:VEVENT
DTSTART;TZID=Europe/Vienna:20260519T200000
DTEND;TZID=Europe/Vienna:20260519T220000
DTSTAMP:20260423T142024
CREATED:20260303T095731Z
LAST-MODIFIED:20260303T095731Z
UID:10128-1779220800-1779228000@ff-schwoich.at
SUMMARY:Übung 3. Gruppe
DESCRIPTION:
URL:https://ff-schwoich.at/termin/uebung-3-gruppe-24/
LOCATION:Gerätehaus FF Schwoich
CATEGORIES:3. Gruppe,Übungen
END:VEVENT
BEGIN:VEVENT
DTSTART;TZID=Europe/Vienna:20260528T193000
DTEND;TZID=Europe/Vienna:20260528T213000
DTSTAMP:20260423T142024
CREATED:20260303T095809Z
LAST-MODIFIED:20260303T095809Z
UID:10130-1779996600-1780003800@ff-schwoich.at
SUMMARY:Übung 4. Gruppe
DESCRIPTION:
URL:https://ff-schwoich.at/termin/uebung-4-gruppe-23/
LOCATION:Gerätehaus FF Schwoich
CATEGORIES:4. Gruppe,Übungen
END:VEVENT
BEGIN:VEVENT
DTSTART;TZID=Europe/Vienna:20260602T200000
DTEND;TZID=Europe/Vienna:20260602T220000
DTSTAMP:20260423T142024
CREATED:20260303T100136Z
LAST-MODIFIED:20260308T160243Z
UID:10132-1780430400-1780437600@ff-schwoich.at
SUMMARY:Übung 1. Gruppe
DESCRIPTION:
URL:https://ff-schwoich.at/termin/uebung-1-gruppe-24/
LOCATION:Gerätehaus FF Schwoich
CATEGORIES:1. Gruppe,Übungen
END:VEVENT
BEGIN:VEVENT
DTSTART;TZID=Europe/Vienna:20260609T200000
DTEND;TZID=Europe/Vienna:20260609T220000
DTSTAMP:20260423T142024
CREATED:20260303T100218Z
LAST-MODIFIED:20260308T160326Z
UID:10134-1781035200-1781042400@ff-schwoich.at
SUMMARY:Übung 2. Gruppe
DESCRIPTION:
URL:https://ff-schwoich.at/termin/uebung-2-gruppe-24/
LOCATION:Gerätehaus FF Schwoich
CATEGORIES:2. Gruppe,Übungen
END:VEVENT
BEGIN:VEVENT
DTSTART;TZID=Europe/Vienna:20260616T200000
DTEND;TZID=Europe/Vienna:20260616T220000
DTSTAMP:20260423T142024
CREATED:20260303T101209Z
LAST-MODIFIED:20260303T101209Z
UID:10137-1781640000-1781647200@ff-schwoich.at
SUMMARY:Übung 3. Gruppe
DESCRIPTION:
URL:https://ff-schwoich.at/termin/uebung-3-gruppe-25/
LOCATION:Gerätehaus FF Schwoich
CATEGORIES:3. Gruppe,Übungen
END:VEVENT
BEGIN:VEVENT
DTSTART;TZID=Europe/Vienna:20260625T193000
DTEND;TZID=Europe/Vienna:20260625T213000
DTSTAMP:20260423T142024
CREATED:20260303T101256Z
LAST-MODIFIED:20260303T101256Z
UID:10139-1782415800-1782423000@ff-schwoich.at
SUMMARY:Übung 4. Gruppe
DESCRIPTION:
URL:https://ff-schwoich.at/termin/uebung-4-gruppe-24/
LOCATION:Gerätehaus FF Schwoich
CATEGORIES:4. Gruppe,Übungen
END:VEVENT
BEGIN:VEVENT
DTSTART;TZID=Europe/Vienna:20260627T120000
DTEND;TZID=Europe/Vienna:20260627T170000
DTSTAMP:20260423T142024
CREATED:20260303T101417Z
LAST-MODIFIED:20260303T101417Z
UID:10141-1782561600-1782579600@ff-schwoich.at
SUMMARY:Aufbau Frühschoppen 1. + 4. Gruppe
DESCRIPTION:Details werden noch bekannt gegeben
URL:https://ff-schwoich.at/termin/aufbau-fruehschoppen-1-4-gruppe/
LOCATION:Gerätehaus FF Schwoich
CATEGORIES:1. Gruppe,4. Gruppe,Termine
END:VEVENT
BEGIN:VEVENT
DTSTART;TZID=Europe/Vienna:20260628T090000
DTEND;TZID=Europe/Vienna:20260628T170000
DTSTAMP:20260423T142024
CREATED:20260303T101513Z
LAST-MODIFIED:20260303T122110Z
UID:10143-1782637200-1782666000@ff-schwoich.at
SUMMARY:Frühschoppen 2026
DESCRIPTION:
URL:https://ff-schwoich.at/termin/fruehschoppen-2026/
LOCATION:Gerätehaus FF Schwoich
CATEGORIES:1. Gruppe,2. Gruppe,3. Gruppe,4. Gruppe,Termine
END:VEVENT
BEGIN:VEVENT
DTSTART;TZID=Europe/Vienna:20260714T200000
DTEND;TZID=Europe/Vienna:20260714T220000
DTSTAMP:20260423T142024
CREATED:20260303T101614Z
LAST-MODIFIED:20260303T101614Z
UID:10145-1784059200-1784066400@ff-schwoich.at
SUMMARY:Gemeinschaftübung 1. & 2. Gruppe
DESCRIPTION:
URL:https://ff-schwoich.at/termin/gemeinschaftuebung-1-2-gruppe/
LOCATION:Gerätehaus FF Schwoich
CATEGORIES:1. Gruppe,2. Gruppe,Übungen
END:VEVENT
BEGIN:VEVENT
DTSTART;TZID=Europe/Vienna:20260717T140000
DTEND;TZID=Europe/Vienna:20260718T170000
DTSTAMP:20260423T142024
CREATED:20260303T102842Z
LAST-MODIFIED:20260303T102842Z
UID:10169-1784296800-1784394000@ff-schwoich.at
SUMMARY:Bezirksnassleistungsbewerb 2026 in Rattenberg
DESCRIPTION:
URL:https://ff-schwoich.at/termin/bezirksnassleistungsbewerb-2026-in-rattenberg/
LOCATION:FF Rattenberg\, Rattenberg\, 6240\, Austria
CATEGORIES:1. Gruppe,2. Gruppe,3. Gruppe,4. Gruppe,Termine
END:VEVENT
BEGIN:VEVENT
DTSTART;TZID=Europe/Vienna:20260723T200000
DTEND;TZID=Europe/Vienna:20260723T220000
DTSTAMP:20260423T142024
CREATED:20260303T101654Z
LAST-MODIFIED:20260303T101654Z
UID:10147-1784836800-1784844000@ff-schwoich.at
SUMMARY:Gemeinschaftsübung 3. & 4. Gruppe
DESCRIPTION:
URL:https://ff-schwoich.at/termin/gemeinschaftsuebung-3-4-gruppe-7/
LOCATION:Gerätehaus FF Schwoich
CATEGORIES:3. Gruppe,4. Gruppe,Übungen
END:VEVENT
BEGIN:VEVENT
DTSTART;TZID=Europe/Vienna:20260804T200000
DTEND;TZID=Europe/Vienna:20260804T220000
DTSTAMP:20260423T142024
CREATED:20260303T101721Z
LAST-MODIFIED:20260303T101721Z
UID:10149-1785873600-1785880800@ff-schwoich.at
SUMMARY:Übung 1. Gruppe
DESCRIPTION:
URL:https://ff-schwoich.at/termin/uebung-1-gruppe-25/
LOCATION:Gerätehaus FF Schwoich
CATEGORIES:1. Gruppe,Übungen
END:VEVENT
BEGIN:VEVENT
DTSTART;TZID=Europe/Vienna:20260811T200000
DTEND;TZID=Europe/Vienna:20260811T220000
DTSTAMP:20260423T142024
CREATED:20260303T101750Z
LAST-MODIFIED:20260303T101750Z
UID:10151-1786478400-1786485600@ff-schwoich.at
SUMMARY:Übung 2. Gruppe
DESCRIPTION:
URL:https://ff-schwoich.at/termin/uebung-2-gruppe-25/
LOCATION:Gerätehaus FF Schwoich
CATEGORIES:2. Gruppe,Übungen
END:VEVENT
BEGIN:VEVENT
DTSTART;TZID=Europe/Vienna:20260818T200000
DTEND;TZID=Europe/Vienna:20260818T220000
DTSTAMP:20260423T142024
CREATED:20260303T101822Z
LAST-MODIFIED:20260303T101822Z
UID:10153-1787083200-1787090400@ff-schwoich.at
SUMMARY:Übung 3. Gruppe
DESCRIPTION:
URL:https://ff-schwoich.at/termin/uebung-3-gruppe-26/
LOCATION:Gerätehaus FF Schwoich
CATEGORIES:3. Gruppe,Übungen
END:VEVENT
BEGIN:VEVENT
DTSTART;TZID=Europe/Vienna:20260827T193000
DTEND;TZID=Europe/Vienna:20260827T213000
DTSTAMP:20260423T142024
CREATED:20260303T101901Z
LAST-MODIFIED:20260303T101901Z
UID:10155-1787859000-1787866200@ff-schwoich.at
SUMMARY:Übung 4. Gruppe
DESCRIPTION:
URL:https://ff-schwoich.at/termin/uebung-4-gruppe-25/
LOCATION:Gerätehaus FF Schwoich
CATEGORIES:4. Gruppe,Übungen
END:VEVENT
BEGIN:VEVENT
DTSTART;TZID=Europe/Vienna:20260829T080000
DTEND;TZID=Europe/Vienna:20260829T220000
DTSTAMP:20260423T142024
CREATED:20260303T101940Z
LAST-MODIFIED:20260303T101940Z
UID:10157-1787990400-1788040800@ff-schwoich.at
SUMMARY:Feuerwehrausflug
DESCRIPTION:
URL:https://ff-schwoich.at/termin/feuerwehrausflug-4/
LOCATION:Gerätehaus FF Schwoich
CATEGORIES:1. Gruppe,2. Gruppe,3. Gruppe,4. Gruppe,Termine
END:VEVENT
BEGIN:VEVENT
DTSTART;TZID=Europe/Vienna:20260908T200000
DTEND;TZID=Europe/Vienna:20260908T220000
DTSTAMP:20260423T142024
CREATED:20260303T102015Z
LAST-MODIFIED:20260303T102015Z
UID:10159-1788897600-1788904800@ff-schwoich.at
SUMMARY:Gemeinschaftsübung 1. & 4. Gruppe
DESCRIPTION:
URL:https://ff-schwoich.at/termin/gemeinschaftsuebung-1-4-gruppe-6/
LOCATION:Gerätehaus FF Schwoich
CATEGORIES:1. Gruppe,4. Gruppe,Übungen
END:VEVENT
BEGIN:VEVENT
DTSTART;TZID=Europe/Vienna:20260915T200000
DTEND;TZID=Europe/Vienna:20260915T210000
DTSTAMP:20260423T142024
CREATED:20260303T102100Z
LAST-MODIFIED:20260303T122250Z
UID:10161-1789502400-1789506000@ff-schwoich.at
SUMMARY:Gemeinschaftsübung 2. & 3. Gruppe
DESCRIPTION:
URL:https://ff-schwoich.at/termin/gemeinschaftsuebung-2-3-gruppe-5/
LOCATION:Gerätehaus FF Schwoich
CATEGORIES:2. Gruppe,3. Gruppe,Übungen
END:VEVENT
BEGIN:VEVENT
DTSTART;VALUE=DATE:20260918
DTEND;VALUE=DATE:20260920
DTSTAMP:20260423T142024
CREATED:20260303T102946Z
LAST-MODIFIED:20260303T102946Z
UID:10172-1789689600-1789862399@ff-schwoich.at
SUMMARY:150 Jahre BFV Kufstein
DESCRIPTION:
URL:https://ff-schwoich.at/termin/150-jahre-bfv-kufstein/
LOCATION:Büro BFV Kufstein
CATEGORIES:1. Gruppe,2. Gruppe,3. Gruppe,4. Gruppe,Termine
END:VEVENT
BEGIN:VEVENT
DTSTART;TZID=Europe/Vienna:20261006T200000
DTEND;TZID=Europe/Vienna:20261006T220000
DTSTAMP:20260423T142024
CREATED:20260303T102145Z
LAST-MODIFIED:20260308T161251Z
UID:10163-1791316800-1791324000@ff-schwoich.at
SUMMARY:Übung 2. Gruppe
DESCRIPTION:
URL:https://ff-schwoich.at/termin/uebung-2-gruppe-26/
LOCATION:Gerätehaus FF Schwoich
CATEGORIES:2. Gruppe,Übungen
END:VEVENT
BEGIN:VEVENT
DTSTART;TZID=Europe/Vienna:20261015T193000
DTEND;TZID=Europe/Vienna:20261015T213000
DTSTAMP:20260423T142024
CREATED:20260303T102224Z
LAST-MODIFIED:20260308T161230Z
UID:10165-1792092600-1792099800@ff-schwoich.at
SUMMARY:Übung 4. Gruppe
DESCRIPTION:
URL:https://ff-schwoich.at/termin/uebung-4-gruppe-26/
LOCATION:Gerätehaus FF Schwoich
CATEGORIES:4. Gruppe,Übungen
END:VEVENT
BEGIN:VEVENT
DTSTART;TZID=Europe/Vienna:20261026T133000
DTEND;TZID=Europe/Vienna:20261026T170000
DTSTAMP:20260423T142024
CREATED:20260303T102312Z
LAST-MODIFIED:20260308T161154Z
UID:10167-1793021400-1793034000@ff-schwoich.at
SUMMARY:Jahreshauptübung 2026
DESCRIPTION:
URL:https://ff-schwoich.at/termin/jahreshauptuebung-2026/
LOCATION:Gerätehaus FF Schwoich
CATEGORIES:1. Gruppe,2. Gruppe,3. Gruppe,4. Gruppe,Übungen
END:VEVENT
END:VCALENDAR