BEGIN:VCALENDAR
VERSION:2.0
PRODID:-//Freiwillige Feuerwehr Schwoich - ECPv6.15.17.1//NONSGML v1.0//EN
CALSCALE:GREGORIAN
METHOD:PUBLISH
X-WR-CALNAME:Freiwillige Feuerwehr Schwoich
X-ORIGINAL-URL:https://ff-schwoich.at
X-WR-CALDESC:Veranstaltungen für Freiwillige Feuerwehr Schwoich
REFRESH-INTERVAL;VALUE=DURATION:PT1H
X-Robots-Tag:noindex
X-PUBLISHED-TTL:PT1H
BEGIN:VTIMEZONE
TZID:Europe/Vienna
BEGIN:DAYLIGHT
TZOFFSETFROM:+0100
TZOFFSETTO:+0200
TZNAME:CEST
DTSTART:20240331T010000
END:DAYLIGHT
BEGIN:STANDARD
TZOFFSETFROM:+0200
TZOFFSETTO:+0100
TZNAME:CET
DTSTART:20241027T010000
END:STANDARD
BEGIN:DAYLIGHT
TZOFFSETFROM:+0100
TZOFFSETTO:+0200
TZNAME:CEST
DTSTART:20250330T010000
END:DAYLIGHT
BEGIN:STANDARD
TZOFFSETFROM:+0200
TZOFFSETTO:+0100
TZNAME:CET
DTSTART:20251026T010000
END:STANDARD
BEGIN:DAYLIGHT
TZOFFSETFROM:+0100
TZOFFSETTO:+0200
TZNAME:CEST
DTSTART:20260329T010000
END:DAYLIGHT
BEGIN:STANDARD
TZOFFSETFROM:+0200
TZOFFSETTO:+0100
TZNAME:CET
DTSTART:20261025T010000
END:STANDARD
BEGIN:DAYLIGHT
TZOFFSETFROM:+0100
TZOFFSETTO:+0200
TZNAME:CEST
DTSTART:20270328T010000
END:DAYLIGHT
BEGIN:STANDARD
TZOFFSETFROM:+0200
TZOFFSETTO:+0100
TZNAME:CET
DTSTART:20271031T010000
END:STANDARD
END:VTIMEZONE
BEGIN:VEVENT
DTSTART;TZID=Europe/Vienna:20260421T190000
DTEND;TZID=Europe/Vienna:20260421T220000
DTSTAMP:20260423T154401
CREATED:20260303T094023Z
LAST-MODIFIED:20260303T094114Z
UID:10117-1776798000-1776808800@ff-schwoich.at
SUMMARY:Frühjahresübung 2. Gruppe
DESCRIPTION:
URL:https://ff-schwoich.at/termin/fruehjahresuebung-2-gruppe-3/
LOCATION:Gerätehaus FF Schwoich
CATEGORIES:2. Gruppe,Übungen
END:VEVENT
BEGIN:VEVENT
DTSTART;TZID=Europe/Vienna:20260418T180000
DTEND;TZID=Europe/Vienna:20260418T230000
DTSTAMP:20260423T154401
CREATED:20260303T103106Z
LAST-MODIFIED:20260303T103106Z
UID:10174-1776535200-1776553200@ff-schwoich.at
SUMMARY:Bezirksfeuerwehrtag 2026
DESCRIPTION:
URL:https://ff-schwoich.at/termin/bezirksfeuerwehrtag-2026/
LOCATION:Gerätehaus FF Wörgl
CATEGORIES:1. Gruppe,2. Gruppe,3. Gruppe,4. Gruppe,Termine
END:VEVENT
BEGIN:VEVENT
DTSTART;TZID=Europe/Vienna:20260416T190000
DTEND;TZID=Europe/Vienna:20260416T220000
DTSTAMP:20260423T154401
CREATED:20260303T093938Z
LAST-MODIFIED:20260303T093938Z
UID:10115-1776366000-1776376800@ff-schwoich.at
SUMMARY:Frühjahresübung 4. Gruppe
DESCRIPTION:
URL:https://ff-schwoich.at/termin/fruehjahresuebung-4-gruppe-3/
LOCATION:Gerätehaus FF Schwoich
CATEGORIES:4. Gruppe,Übungen
END:VEVENT
BEGIN:VEVENT
DTSTART;TZID=Europe/Vienna:20260414T190000
DTEND;TZID=Europe/Vienna:20260414T210000
DTSTAMP:20260423T154401
CREATED:20260303T093849Z
LAST-MODIFIED:20260303T093849Z
UID:10113-1776193200-1776200400@ff-schwoich.at
SUMMARY:Frühjahresübung 1. Gruppe
DESCRIPTION:
URL:https://ff-schwoich.at/termin/fruehjahresuebung-1-gruppe-3/
LOCATION:Gerätehaus FF Schwoich
CATEGORIES:1. Gruppe,Übungen
END:VEVENT
BEGIN:VEVENT
DTSTART;TZID=Europe/Vienna:20260401T193000
DTEND;TZID=Europe/Vienna:20260401T220000
DTSTAMP:20260423T154401
CREATED:20260303T093705Z
LAST-MODIFIED:20260318T144940Z
UID:10111-1775071800-1775080800@ff-schwoich.at
SUMMARY:Schulungsabend
DESCRIPTION:
URL:https://ff-schwoich.at/termin/schulungsabend-5/
LOCATION:Gerätehaus FF Schwoich
CATEGORIES:1. Gruppe,2. Gruppe,3. Gruppe,4. Gruppe,Übungen
END:VEVENT
BEGIN:VEVENT
DTSTART;TZID=Europe/Vienna:20251026T133000
DTEND;TZID=Europe/Vienna:20251026T170000
DTSTAMP:20260423T154401
CREATED:20250326T194131Z
LAST-MODIFIED:20251022T063002Z
UID:9931-1761485400-1761498000@ff-schwoich.at
SUMMARY:Jahreshauptübung 2025
DESCRIPTION:
URL:https://ff-schwoich.at/termin/jahreshauptuebung-2025/
LOCATION:Gerätehaus FF Schwoich
CATEGORIES:1. Gruppe,2. Gruppe,3. Gruppe,4. Gruppe,Übungen
END:VEVENT
BEGIN:VEVENT
DTSTART;TZID=Europe/Vienna:20251016T200000
DTEND;TZID=Europe/Vienna:20251016T220000
DTSTAMP:20260423T154401
CREATED:20250326T194043Z
LAST-MODIFIED:20250326T194043Z
UID:9929-1760644800-1760652000@ff-schwoich.at
SUMMARY:Gemeinschaftsübung 3. & 4. Gruppe
DESCRIPTION:
URL:https://ff-schwoich.at/termin/gemeinschaftsuebung-3-4-gruppe-6/
LOCATION:Gerätehaus FF Schwoich
CATEGORIES:3. Gruppe,4. Gruppe,Übungen
END:VEVENT
BEGIN:VEVENT
DTSTART;TZID=Europe/Vienna:20251014T200000
DTEND;TZID=Europe/Vienna:20251014T220000
DTSTAMP:20260423T154401
CREATED:20250326T193904Z
LAST-MODIFIED:20250326T193904Z
UID:9925-1760472000-1760479200@ff-schwoich.at
SUMMARY:Übung 2. Gruppe
DESCRIPTION:
URL:https://ff-schwoich.at/termin/uebung-2-gruppe-22/
LOCATION:Gerätehaus FF Schwoich
CATEGORIES:2. Gruppe,Übungen
END:VEVENT
BEGIN:VEVENT
DTSTART;TZID=Europe/Vienna:20251007T200000
DTEND;TZID=Europe/Vienna:20251007T220000
DTSTAMP:20260423T154401
CREATED:20250326T193813Z
LAST-MODIFIED:20250326T193813Z
UID:9923-1759867200-1759874400@ff-schwoich.at
SUMMARY:Übung 1. Gruppe
DESCRIPTION:
URL:https://ff-schwoich.at/termin/uebung-1-gruppe-22/
LOCATION:Gerätehaus FF Schwoich
CATEGORIES:1. Gruppe,Übungen
END:VEVENT
BEGIN:VEVENT
DTSTART;TZID=Europe/Vienna:20250925T200000
DTEND;TZID=Europe/Vienna:20250925T220000
DTSTAMP:20260423T154401
CREATED:20250326T193736Z
LAST-MODIFIED:20250326T193736Z
UID:9921-1758830400-1758837600@ff-schwoich.at
SUMMARY:Übung 4. Gruppe
DESCRIPTION:
URL:https://ff-schwoich.at/termin/uebung-4-gruppe-22/
LOCATION:Gerätehaus FF Schwoich
CATEGORIES:4. Gruppe,Übungen
END:VEVENT
BEGIN:VEVENT
DTSTART;TZID=Europe/Vienna:20250916T200000
DTEND;TZID=Europe/Vienna:20250916T220000
DTSTAMP:20260423T154401
CREATED:20250326T193703Z
LAST-MODIFIED:20250326T193703Z
UID:9919-1758052800-1758060000@ff-schwoich.at
SUMMARY:Übung 3. Gruppe
DESCRIPTION:
URL:https://ff-schwoich.at/termin/uebung-3-gruppe-23/
LOCATION:Gerätehaus FF Schwoich
CATEGORIES:3. Gruppe,Übungen
END:VEVENT
BEGIN:VEVENT
DTSTART;TZID=Europe/Vienna:20250909T200000
DTEND;TZID=Europe/Vienna:20250909T220000
DTSTAMP:20260423T154401
CREATED:20250326T193551Z
LAST-MODIFIED:20250326T193551Z
UID:9917-1757448000-1757455200@ff-schwoich.at
SUMMARY:Übung 2. Gruppe
DESCRIPTION:
URL:https://ff-schwoich.at/termin/uebung-2-gruppe-21/
LOCATION:Gerätehaus FF Schwoich
CATEGORIES:2. Gruppe,Übungen
END:VEVENT
BEGIN:VEVENT
DTSTART;TZID=Europe/Vienna:20250902T200000
DTEND;TZID=Europe/Vienna:20250902T220000
DTSTAMP:20260423T154401
CREATED:20250326T193525Z
LAST-MODIFIED:20250326T193525Z
UID:9915-1756843200-1756850400@ff-schwoich.at
SUMMARY:Übung 1. Gruppe
DESCRIPTION:
URL:https://ff-schwoich.at/termin/uebung-1-gruppe-21/
LOCATION:Gerätehaus FF Schwoich
CATEGORIES:1. Gruppe,Übungen
END:VEVENT
BEGIN:VEVENT
DTSTART;TZID=Europe/Vienna:20250828T200000
DTEND;TZID=Europe/Vienna:20250828T220000
DTSTAMP:20260423T154401
CREATED:20250326T193444Z
LAST-MODIFIED:20250326T193444Z
UID:9913-1756411200-1756418400@ff-schwoich.at
SUMMARY:Übung 4. Gruppe
DESCRIPTION:
URL:https://ff-schwoich.at/termin/uebung-4-gruppe-21/
LOCATION:Gerätehaus FF Schwoich
CATEGORIES:4. Gruppe,Übungen
END:VEVENT
BEGIN:VEVENT
DTSTART;TZID=Europe/Vienna:20250812T200000
DTEND;TZID=Europe/Vienna:20250812T220000
DTSTAMP:20260423T154401
CREATED:20250326T193410Z
LAST-MODIFIED:20250326T193410Z
UID:9911-1755028800-1755036000@ff-schwoich.at
SUMMARY:Übung 3. Gruppe
DESCRIPTION:
URL:https://ff-schwoich.at/termin/uebung-3-gruppe-22/
LOCATION:Gerätehaus FF Schwoich
CATEGORIES:3. Gruppe,Übungen
END:VEVENT
BEGIN:VEVENT
DTSTART;TZID=Europe/Vienna:20250805T200000
DTEND;TZID=Europe/Vienna:20250805T220000
DTSTAMP:20260423T154401
CREATED:20250326T193951Z
LAST-MODIFIED:20250408T181945Z
UID:9927-1754424000-1754431200@ff-schwoich.at
SUMMARY:Gemeinschaftsübung 1. & 2. Gruppe
DESCRIPTION:
URL:https://ff-schwoich.at/termin/gemeinschaftsuebung-1-2-gruppe-8/
LOCATION:Gerätehaus FF Schwoich
CATEGORIES:1. Gruppe,2. Gruppe,Übungen
END:VEVENT
BEGIN:VEVENT
DTSTART;TZID=Europe/Vienna:20250731T200000
DTEND;TZID=Europe/Vienna:20250731T220000
DTSTAMP:20260423T154401
CREATED:20250326T193147Z
LAST-MODIFIED:20250326T193147Z
UID:9909-1753992000-1753999200@ff-schwoich.at
SUMMARY:Übung 4. Gruppe
DESCRIPTION:
URL:https://ff-schwoich.at/termin/uebung-4-gruppe-20/
LOCATION:Gerätehaus FF Schwoich
CATEGORIES:4. Gruppe,Übungen
END:VEVENT
BEGIN:VEVENT
DTSTART;TZID=Europe/Vienna:20250715T200000
DTEND;TZID=Europe/Vienna:20250715T220000
DTSTAMP:20260423T154401
CREATED:20250326T193101Z
LAST-MODIFIED:20250326T193101Z
UID:9907-1752609600-1752616800@ff-schwoich.at
SUMMARY:Übung 3. Gruppe
DESCRIPTION:
URL:https://ff-schwoich.at/termin/uebung-3-gruppe-21/
LOCATION:Gerätehaus FF Schwoich
CATEGORIES:3. Gruppe,Übungen
END:VEVENT
BEGIN:VEVENT
DTSTART;TZID=Europe/Vienna:20250708T200000
DTEND;TZID=Europe/Vienna:20250708T220000
DTSTAMP:20260423T154401
CREATED:20250326T192922Z
LAST-MODIFIED:20250326T192922Z
UID:9905-1752004800-1752012000@ff-schwoich.at
SUMMARY:Übung 2. Gruppe
DESCRIPTION:
URL:https://ff-schwoich.at/termin/uebung-2-gruppe-20/
LOCATION:Gerätehaus FF Schwoich
CATEGORIES:2. Gruppe,Übungen
END:VEVENT
BEGIN:VEVENT
DTSTART;TZID=Europe/Vienna:20250701T200000
DTEND;TZID=Europe/Vienna:20250701T220000
DTSTAMP:20260423T154401
CREATED:20250326T192850Z
LAST-MODIFIED:20250326T192850Z
UID:9903-1751400000-1751407200@ff-schwoich.at
SUMMARY:Übung 1. Gruppe
DESCRIPTION:
URL:https://ff-schwoich.at/termin/uebung-1-gruppe-20/
LOCATION:Gerätehaus FF Schwoich
CATEGORIES:1. Gruppe,Übungen
END:VEVENT
BEGIN:VEVENT
DTSTART;TZID=Europe/Vienna:20250626T200000
DTEND;TZID=Europe/Vienna:20250626T220000
DTSTAMP:20260423T154401
CREATED:20250326T192631Z
LAST-MODIFIED:20250326T192631Z
UID:9901-1750968000-1750975200@ff-schwoich.at
SUMMARY:Übung 4. Gruppe
DESCRIPTION:
URL:https://ff-schwoich.at/termin/uebung-4-gruppe-19/
LOCATION:Gerätehaus FF Schwoich
CATEGORIES:4. Gruppe,Übungen
END:VEVENT
BEGIN:VEVENT
DTSTART;TZID=Europe/Vienna:20250617T200000
DTEND;TZID=Europe/Vienna:20250617T220000
DTSTAMP:20260423T154401
CREATED:20250326T175531Z
LAST-MODIFIED:20250326T175531Z
UID:9899-1750190400-1750197600@ff-schwoich.at
SUMMARY:Übung 3. Gruppe
DESCRIPTION:
URL:https://ff-schwoich.at/termin/uebung-3-gruppe-20/
LOCATION:Gerätehaus FF Schwoich
CATEGORIES:3. Gruppe,Übungen
END:VEVENT
BEGIN:VEVENT
DTSTART;TZID=Europe/Vienna:20250610T200000
DTEND;TZID=Europe/Vienna:20250610T220000
DTSTAMP:20260423T154401
CREATED:20250326T175459Z
LAST-MODIFIED:20250326T175459Z
UID:9897-1749585600-1749592800@ff-schwoich.at
SUMMARY:Übung 2. Gruppe
DESCRIPTION:
URL:https://ff-schwoich.at/termin/uebung-2-gruppe-19/
LOCATION:Gerätehaus FF Schwoich
CATEGORIES:2. Gruppe,Übungen
END:VEVENT
BEGIN:VEVENT
DTSTART;TZID=Europe/Vienna:20250603T200000
DTEND;TZID=Europe/Vienna:20250603T220000
DTSTAMP:20260423T154401
CREATED:20250326T175430Z
LAST-MODIFIED:20250326T175430Z
UID:9895-1748980800-1748988000@ff-schwoich.at
SUMMARY:Übung 1. Gruppe
DESCRIPTION:
URL:https://ff-schwoich.at/termin/uebung-1-gruppe-19/
LOCATION:Gerätehaus FF Schwoich
CATEGORIES:1. Gruppe,Übungen
END:VEVENT
BEGIN:VEVENT
DTSTART;TZID=Europe/Vienna:20250528T200000
DTEND;TZID=Europe/Vienna:20250528T220000
DTSTAMP:20260423T154401
CREATED:20250326T175111Z
LAST-MODIFIED:20250326T175111Z
UID:9889-1748462400-1748469600@ff-schwoich.at
SUMMARY:Übung 4. Gruppe
DESCRIPTION:
URL:https://ff-schwoich.at/termin/uebung-4-gruppe-18/
LOCATION:Gerätehaus FF Schwoich
CATEGORIES:4. Gruppe,Übungen
END:VEVENT
BEGIN:VEVENT
DTSTART;TZID=Europe/Vienna:20250520T200000
DTEND;TZID=Europe/Vienna:20250520T220000
DTSTAMP:20260423T154401
CREATED:20250326T175024Z
LAST-MODIFIED:20250326T175024Z
UID:9887-1747771200-1747778400@ff-schwoich.at
SUMMARY:Übung 3. Gruppe
DESCRIPTION:
URL:https://ff-schwoich.at/termin/uebung-3-gruppe-19/
LOCATION:Gerätehaus FF Schwoich
CATEGORIES:3. Gruppe,Übungen
END:VEVENT
BEGIN:VEVENT
DTSTART;TZID=Europe/Vienna:20250518T103000
DTEND;TZID=Europe/Vienna:20250518T180000
DTSTAMP:20260423T154401
CREATED:20250326T175313Z
LAST-MODIFIED:20250326T175313Z
UID:9891-1747564200-1747591200@ff-schwoich.at
SUMMARY:Frühschoppen 2025
DESCRIPTION:Die 2. und 3. Gruppe sorgen heuer für unser leibliches Wohl 
URL:https://ff-schwoich.at/termin/fruehschoppen-2025/
LOCATION:Gerätehaus FF Schwoich
CATEGORIES:1. Gruppe,2. Gruppe,3. Gruppe,4. Gruppe,Termine
END:VEVENT
BEGIN:VEVENT
DTSTART;TZID=Europe/Vienna:20250517T130000
DTEND;TZID=Europe/Vienna:20250517T170000
DTSTAMP:20260423T154401
CREATED:20250326T175400Z
LAST-MODIFIED:20250326T175400Z
UID:9893-1747486800-1747501200@ff-schwoich.at
SUMMARY:Aufbau für Frühschoppen
DESCRIPTION:
URL:https://ff-schwoich.at/termin/aufbau-fuer-fruehschoppen/
LOCATION:Gerätehaus FF Schwoich
CATEGORIES:2. Gruppe,3. Gruppe,Termine
END:VEVENT
BEGIN:VEVENT
DTSTART;TZID=Europe/Vienna:20250513T200000
DTEND;TZID=Europe/Vienna:20250513T220000
DTSTAMP:20260423T154401
CREATED:20250326T174938Z
LAST-MODIFIED:20250326T174938Z
UID:9885-1747166400-1747173600@ff-schwoich.at
SUMMARY:Übung 2. Gruppe
DESCRIPTION:
URL:https://ff-schwoich.at/termin/uebung-2-gruppe-18/
LOCATION:Gerätehaus FF Schwoich
CATEGORIES:2. Gruppe,Übungen
END:VEVENT
BEGIN:VEVENT
DTSTART;TZID=Europe/Vienna:20250506T200000
DTEND;TZID=Europe/Vienna:20250506T220000
DTSTAMP:20260423T154401
CREATED:20250326T174823Z
LAST-MODIFIED:20250326T174823Z
UID:9882-1746561600-1746568800@ff-schwoich.at
SUMMARY:Übung 1. Gruppe
DESCRIPTION:
URL:https://ff-schwoich.at/termin/uebung-1-gruppe-18/
LOCATION:Gerätehaus FF Schwoich
CATEGORIES:1. Gruppe,Übungen
END:VEVENT
END:VCALENDAR